BEGIN:VCALENDAR
VERSION:2.0
PRODID:-//hacksw/handcal//NONSGML v1.0//EN
BEGIN:VEVENT
SUMMARY:tournois festi rugby - Portet sur Garonne
UID:e2d3e289-bb80-4311-b868-2d4ddba9888d
DTSTART:20260410T220000Z
DTEND:20260411T220000Z
LOCATION:Localisation   
CATEGORIES:Sportif
STATUS:
URL;VALUE=URI:https://www.racingclublabarthais.com/evenements/2026/04/11/tournois-festi-rugby-portet-sur-garonne-2435854
END:VEVENT
END:VCALENDAR
