BEGIN:VCALENDAR
VERSION:2.0
PRODID:-//hacksw/handcal//NONSGML v1.0//EN
BEGIN:VEVENT
SUMMARY:Tournoi des Balezes
UID:63119c84-8484-4195-af40-71725a09ea39
DTSTART:20260514T140000Z
DTEND:20260514T200000Z
LOCATION:Terrain Lieu dit Bouatis Route du Plantaurel 31860 labarthe sur leze
CATEGORIES:Sportif
STATUS:
DESCRIPTION:<p>Tournoi les balezes organise par le RCL</p>
URL;VALUE=URI:https://www.racingclublabarthais.com/evenements/2026/05/14/tournoi-des-balezes-2388770
END:VEVENT
END:VCALENDAR
